BEGIN:VCALENDAR
VERSION:2.0
PRODID:-//SENDIAS North Yorkshire - ECPv6.15.20//NONSGML v1.0//EN
CALSCALE:GREGORIAN
METHOD:PUBLISH
X-WR-CALNAME:SENDIAS North Yorkshire
X-ORIGINAL-URL:https://sendiassnorthyorkshire.co.uk
X-WR-CALDESC:Events for SENDIAS North Yorkshire
REFRESH-INTERVAL;VALUE=DURATION:PT1H
X-Robots-Tag:noindex
X-PUBLISHED-TTL:PT1H
BEGIN:VTIMEZONE
TZID:Europe/London
BEGIN:DAYLIGHT
TZOFFSETFROM:+0000
TZOFFSETTO:+0100
TZNAME:BST
DTSTART:20240331T010000
END:DAYLIGHT
BEGIN:STANDARD
TZOFFSETFROM:+0100
TZOFFSETTO:+0000
TZNAME:GMT
DTSTART:20241027T010000
END:STANDARD
BEGIN:DAYLIGHT
TZOFFSETFROM:+0000
TZOFFSETTO:+0100
TZNAME:BST
DTSTART:20250330T010000
END:DAYLIGHT
BEGIN:STANDARD
TZOFFSETFROM:+0100
TZOFFSETTO:+0000
TZNAME:GMT
DTSTART:20251026T010000
END:STANDARD
BEGIN:DAYLIGHT
TZOFFSETFROM:+0000
TZOFFSETTO:+0100
TZNAME:BST
DTSTART:20260329T010000
END:DAYLIGHT
BEGIN:STANDARD
TZOFFSETFROM:+0100
TZOFFSETTO:+0000
TZNAME:GMT
DTSTART:20261025T010000
END:STANDARD
END:VTIMEZONE
BEGIN:VEVENT
DTSTART;TZID=Europe/London:20250911T080000
DTEND;TZID=Europe/London:20250911T170000
DTSTAMP:20260423T105347
CREATED:20250911T091419Z
LAST-MODIFIED:20250911T091419Z
UID:7125-1757577600-1757610000@sendiassnorthyorkshire.co.uk
SUMMARY:Draft Education Health and Care Plans - Virtual Training Session for Parents
DESCRIPTION:Draft Education\, Health and Care Plan Virtual Information Session for Parents and Carers.\n\n\nDo you need more information on Draft EHCPs and what a plan must contain?\nThen come along to our brand new session on Draft Plans.\n\n\nIn this session we cover:\n– What is a Draft EHC Plan?\n– What does the Law say about Draft Plans?\n– Sections of an EHCP\n– Key things to consider when you receive a Draft Plan.\n– What happens next?\n\n\nThere will also be time for questions and discussion.\n\n\nBook your free place here\, this session is for Parents\, Carers and Young People ONLY.\n\n\nPlease get in touch with us for information on our professionals training offer should you like to attend a session.
URL:https://sendiassnorthyorkshire.co.uk/event/draft-education-health-and-care-plans-virtual-training-session-for-parents/
END:VEVENT
END:VCALENDAR